BEGIN:VCALENDAR
PRODID:-//contemplative.org.nz//EN
VERSION:2.0
METHOD:PUBLISH
BEGIN:VEVENT
DTSTART;TZID=America/New_York:20150112T
DTEND;TZID=America/New_York:20150118T
URL:https://contemplative.org.nz/retreats-events/waikato-events-calendar/the-2015-john-main-seminar/
SUMMARY:The 2015 John Main Seminar
END:VEVENT
END:VCALENDAR