BEGIN:VCALENDAR
PRODID:-//contemplative.org.nz//EN
VERSION:2.0
METHOD:PUBLISH
BEGIN:VEVENT
DTSTART;TZID=America/New_York:20101114T160000
DTEND;TZID=America/New_York:20101114T160000
URL:https://contemplative.org.nz/retreats-events/wellington-events-calendar/seminar-on-thomas-merton/
SUMMARY:Seminar on Thomas Merton
END:VEVENT
END:VCALENDAR