BEGIN:VCALENDAR
PRODID:-//contemplative.org.nz//EN
VERSION:2.0
METHOD:PUBLISH
BEGIN:VEVENT
DTSTART;TZID=America/New_York:20190117T
DTEND;TZID=America/New_York:20190118T
URL:https://contemplative.org.nz/retreats-events/auckland-events-calendar/contemplative-care/
SUMMARY:Contemplative Care
END:VEVENT
END:VCALENDAR