BEGIN:VCALENDAR
PRODID:-//contemplative.org.nz//EN
VERSION:2.0
METHOD:PUBLISH
BEGIN:VEVENT
DTSTART;TZID=America/New_York:20191108T193000
DTEND;TZID=America/New_York:20191110T150000
URL:https://contemplative.org.nz/retreats-events/auckland-events-calendar/a-weekend-of-silence-stillness-and-deep-practice/
SUMMARY:A weekend of Silence, Stillness and Deep Practice. 
END:VEVENT
END:VCALENDAR