BEGIN:VCALENDAR
PRODID:-//contemplative.org.nz//EN
VERSION:2.0
METHOD:PUBLISH
BEGIN:VEVENT
DTSTART;TZID=America/New_York:20100901T200000
DTEND;TZID=America/New_York:20100901T200000
URL:https://contemplative.org.nz/retreats-events/auckland-events-calendar/centering-prayer-at-cityside-3/
SUMMARY:Centering Prayer at Cityside
END:VEVENT
END:VCALENDAR