BEGIN:VCALENDAR
PRODID:-//contemplative.org.nz//EN
VERSION:2.0
METHOD:PUBLISH
BEGIN:VEVENT
DTSTART;TZID=America/New_York:20100830T193000
DTEND;TZID=America/New_York:20100830T193000
URL:https://contemplative.org.nz/retreats-events/auckland-events-calendar/mercy-centre-meditation-group/
SUMMARY:Mercy Centre Meditation Group
END:VEVENT
END:VCALENDAR