BEGIN:VCALENDAR
PRODID:-//contemplative.org.nz//EN
VERSION:2.0
METHOD:PUBLISH
BEGIN:VEVENT
DTSTART;TZID=America/New_York:20101103T190000
DTEND;TZID=America/New_York:20101103T190000
URL:https://contemplative.org.nz/retreats-events/auckland-events-calendar/thomas-merton-presentation-2/
SUMMARY:Thomas Merton Presentation
END:VEVENT
END:VCALENDAR