BEGIN:VCALENDAR
PRODID:-//contemplative.org.nz//EN
VERSION:2.0
METHOD:PUBLISH
BEGIN:VEVENT
DTSTART;TZID=America/New_York:20140927T103000
DTEND;TZID=America/New_York:20140927T160000
URL:https://contemplative.org.nz/retreats-events/canterbury-events-calendar/jesus-buddha-chapman-s-homer-transformative-and-inclusive/
SUMMARY:Jesus, Buddha & Chapmanâ€™s Homer, Transformative and Inclusive
END:VEVENT
END:VCALENDAR