BEGIN:VCALENDAR
PRODID:-//contemplative.org.nz//EN
VERSION:2.0
METHOD:PUBLISH
BEGIN:VEVENT
DTSTART;TZID=America/New_York:20141107T190000
DTEND;TZID=America/New_York:20141107T210000
URL:https://contemplative.org.nz/retreats-events/otago-events-calendar/the-art-of-reading/
SUMMARY:The Art of Reading
END:VEVENT
END:VCALENDAR