BEGIN:VCALENDAR
PRODID:-//contemplative.org.nz//EN
VERSION:2.0
METHOD:PUBLISH
BEGIN:VEVENT
DTSTART;TZID=America/New_York:20141108T103000
DTEND;TZID=America/New_York:20141108T160000
URL:https://contemplative.org.nz/retreats-events/otago-events-calendar/yes-trusting-our-own-deepest-experience/
SUMMARY:YES: Trusting our Own Deepest Experience
END:VEVENT
END:VCALENDAR