BEGIN:VCALENDAR
PRODID:-//contemplative.org.nz//EN
VERSION:2.0
METHOD:PUBLISH
BEGIN:VEVENT
DTSTART;TZID=America/New_York:20101004T190000
DTEND;TZID=America/New_York:20101004T190000
URL:https://contemplative.org.nz/retreats-events/wellington-events-calendar/meditation-and-lectio-divina/
SUMMARY:Meditation and Lectio Divina
END:VEVENT
END:VCALENDAR