BEGIN:VCALENDAR
PRODID:-//contemplative.org.nz//EN
VERSION:2.0
METHOD:PUBLISH
BEGIN:VEVENT
DTSTART;TZID=America/New_York:20110919T
DTEND;TZID=America/New_York:20111010T
URL:https://contemplative.org.nz/retreats-events/wellington-events-calendar/e-retreat-the-art-of-perspiration/
SUMMARY:E-Retreat: The Art of Perspiration
END:VEVENT
END:VCALENDAR