BEGIN:VCALENDAR
PRODID:-//contemplative.org.nz//EN
VERSION:2.0
METHOD:PUBLISH
BEGIN:VEVENT
DTSTART;TZID=America/New_York:20110301T
DTEND;TZID=America/New_York:20110301T
URL:https://contemplative.org.nz/retreats-events/wellington-events-calendar/the-art-of-the-inner-way/
SUMMARY:The art of the Inner Way
END:VEVENT
END:VCALENDAR