BEGIN:VCALENDAR
PRODID:-//contemplative.org.nz//EN
VERSION:2.0
METHOD:PUBLISH
BEGIN:VEVENT
DTSTART;TZID=America/New_York:20101123T100000
DTEND;TZID=America/New_York:20101123T100000
URL:https://contemplative.org.nz/retreats-events/wellington-events-calendar/finding-centre-the-path-beyond-burnout/
SUMMARY:Finding Centre: The Path Beyond Burnout
END:VEVENT
END:VCALENDAR